BEGIN:VCALENDAR
VERSION:2.0
PRODID:-//iCET - Institute of Computer Engineering Technology - ECPv6.15.14//NONSGML v1.0//EN
CALSCALE:GREGORIAN
METHOD:PUBLISH
X-ORIGINAL-URL:https://icet.lk
X-WR-CALDESC:Events for iCET - Institute of Computer Engineering Technology
REFRESH-INTERVAL;VALUE=DURATION:PT1H
X-Robots-Tag:noindex
X-PUBLISHED-TTL:PT1H
BEGIN:VTIMEZONE
TZID:UTC
BEGIN:STANDARD
TZOFFSETFROM:+0000
TZOFFSETTO:+0000
TZNAME:UTC
DTSTART:20230101T000000
END:STANDARD
END:VTIMEZONE
BEGIN:VEVENT
DTSTART;TZID=UTC:20241221T080000
DTEND;TZID=UTC:20241221T170000
DTSTAMP:20260424T054835
CREATED:20250708T002505Z
LAST-MODIFIED:20250714T011000Z
UID:2964-1734768000-1734800400@icet.lk
SUMMARY:iCET x Medusa 2025 - Powering Cyber Brilliance
DESCRIPTION:As the Title Partner of Medusa 2025\, iCET proudly joined hands with the University of Kelaniya’s Electronics and Computer Science Club to support one of Sri Lanka’s premier inter-university Capture The Flag (CTF) competitions. \nFocused on real-time cybersecurity challenges\, Medusa provided students with a chance to explore\, experiment\, and elevate their skills in a competitive setting – from awareness sessions to high-level final battles between the top 20 teams. \nThis partnership reflects our ongoing mission to back bold ideas\, encourage tech-driven learning\, and connect with the next wave of digital problem-solvers. \nTogether\, we’re shaping minds to face the threats of tomorrow – with skill\, strategy\, and a spark for innovation. \n 
URL:https://icet.lk/event/icet-x-medusa-2025-powering-cyber-brilliance/
CATEGORIES:Tech Meetup,Workshop
ATTACH;FMTTYPE=image/jpeg:https://icet.lk/wp-content/uploads/2025/07/1736863111067.jpeg
END:VEVENT
END:VCALENDAR