BEGIN:VCALENDAR
VERSION:2.0
PRODID:-//iCET - Institute of Computer Engineering Technology - ECPv6.15.14//NONSGML v1.0//EN
CALSCALE:GREGORIAN
METHOD:PUBLISH
X-WR-CALNAME:iCET - Institute of Computer Engineering Technology
X-ORIGINAL-URL:https://icet.lk
X-WR-CALDESC:Events for iCET - Institute of Computer Engineering Technology
REFRESH-INTERVAL;VALUE=DURATION:PT1H
X-Robots-Tag:noindex
X-PUBLISHED-TTL:PT1H
BEGIN:VTIMEZONE
TZID:Asia/Colombo
BEGIN:STANDARD
TZOFFSETFROM:+0530
TZOFFSETTO:+0530
TZNAME:+0530
DTSTART:20240101T000000
END:STANDARD
END:VTIMEZONE
BEGIN:VEVENT
DTSTART;TZID=Asia/Colombo:20250827T080000
DTEND;TZID=Asia/Colombo:20250827T170000
DTSTAMP:20260424T020429
CREATED:20250827T090156Z
LAST-MODIFIED:20250827T090240Z
UID:5074-1756281600-1756314000@icet.lk
SUMMARY:FREE Future Guidance Webinar!
DESCRIPTION:Specially Designed for After A/L Students ✨ \nTake the Next Step in IT Journey! 🚀 \nJoin our FREE Future Guidance Webinar on 29th August 2025 at 8:00 PM \n✅ Explore the right path for higher education\n✅ Engage live with industry experts\n✅ Gain exclusive industry insights \n📌 Don’t miss this chance to design your future success path!\n👉 Join Now: https://chat.whatsapp.com/JEHeO47U0I53gwMK0YklmO?mode=ems_copy_c
URL:https://icet.lk/event/free-future-guidance-webinar/
ATTACH;FMTTYPE=image/jpeg:https://icet.lk/wp-content/uploads/2025/08/webinar.jpeg
END:VEVENT
END:VCALENDAR