BEGIN:VCALENDAR
VERSION:2.0
PRODID:-//iCET - Institute of Computer Engineering Technology - ECPv6.15.14//NONSGML v1.0//EN
CALSCALE:GREGORIAN
METHOD:PUBLISH
X-ORIGINAL-URL:https://icet.lk
X-WR-CALDESC:Events for iCET - Institute of Computer Engineering Technology
REFRESH-INTERVAL;VALUE=DURATION:PT1H
X-Robots-Tag:noindex
X-PUBLISHED-TTL:PT1H
BEGIN:VTIMEZONE
TZID:Asia/Colombo
BEGIN:STANDARD
TZOFFSETFROM:+0530
TZOFFSETTO:+0530
TZNAME:+0530
DTSTART:20240101T000000
END:STANDARD
END:VTIMEZONE
BEGIN:VEVENT
DTSTART;TZID=Asia/Colombo:20250713T080000
DTEND;TZID=Asia/Colombo:20250713T170000
DTSTAMP:20260423T091055
CREATED:20250720T052810Z
LAST-MODIFIED:20250720T052810Z
UID:3891-1752393600-1752426000@icet.lk
SUMMARY:Commencement of Software Engineering Academic Sessions at iCET
DESCRIPTION:The Institute of Computer Engineering Technology (iCET) proudly welcomed the June 2025 intake of our Software Engineering program! The inaugural academic session was conducted under the expert guidance of Dr. Niroth Samarawickrama\, Mr. Frank Cronemberg\, and Mr. Dulan Herath. \nThis marks the beginning of an exciting journey for our new students as they take their first steps toward a successful future in the tech industry. With a curriculum designed to meet global standards and mentorship from highly qualified professionals\, the June 2025 batch is set to thrive in both academic and professional spheres. \nWe wish our new students\, all the best as they embark on this transformative learning experience!
URL:https://icet.lk/event/commencement-of-software-engineering-academic-sessions-at-icet/
LOCATION:Institute of Computer Engineering Technology\, 223 A Galle Road\, Panadura\, 12500 Sri Lanka\, Panadura\, Western Province\, Sri Lanka
CATEGORIES:Intakes
ATTACH;FMTTYPE=image/jpeg:https://icet.lk/wp-content/uploads/2025/07/9X2A9712-scaled.jpg
END:VEVENT
END:VCALENDAR